BEGIN:VCALENDAR
VERSION:2.0
PRODID:-//eventon.com NONSGML v1.0//EN
CALSCALE:GREGORIAN
METHOD:PUBLISH
BEGIN:VEVENT
UID:69e8c5fee3b2f
DTSTAMP:20260422T125838Z
DTSTART:20251002T060000Z
DTEND:20251002T100200Z
LOCATION:
SUMMARY:Radfahrprüfung der 4. Klassen
DESCRIPTION:Heute findet die Radfahrprüfung statt. Zur Durchführung benö
 tigen wir Eltern\,  die an den Kontrollpunkten stehen. Die Klassenteams spr
 echen Sie rechtzeitig an.\nhttps://www.europaschule-nordhorn.de/veranstaltu
 ngen/radfahrtraining-der-4-klassen-2/
URL:https://www.europaschule-nordhorn.de/veranstaltungen/radfahrtraining-der-4-klassen-2/
END:VEVENT
END:VCALENDAR