BEGIN:VCALENDAR
VERSION:2.0
PRODID:-//eventon.com NONSGML v1.0//EN
CALSCALE:GREGORIAN
METHOD:PUBLISH
BEGIN:VEVENT
UID:69e957c824edf
DTSTAMP:20260422T232040Z
DTSTART:20241002T060000Z
DTEND:20241002T080000Z
LOCATION:
SUMMARY:Infoabend für die neuen Erstklasseltern
DESCRIPTION:Infoabend für die neuen Erstklasseltern\nhttps://www.europasch
 ule-nordhorn.de/veranstaltungen/infoabend-fuer-die-neue-klasse-1a/
URL:https://www.europaschule-nordhorn.de/veranstaltungen/infoabend-fuer-die-neue-klasse-1a/
END:VEVENT
END:VCALENDAR